BEGIN:VCALENDAR
PRODID:srh-edu-event-30906
VERSION:2.0
METHOD:PUBLISH
BEGIN:VEVENT
UID:srh-edu-30906
SUMMARY:Join the dance! – Wie viel Tanz steckt in der Tanztherapie?
DESCRIPTION:Would you like to experience the master’s program in dance and movement therapy firsthand? The team will give you a variety of insights into both the practical and theoretical aspects of the program.
LOCATION:Campus Heidelberg
DTSTART:20260509T101500
DTEND:20260509T170000
DTSTAMP:20260424T070337
END:VEVENT
END:VCALENDAR
