BEGIN:VCALENDAR
PRODID:srh-edu-event-30991
VERSION:2.0
METHOD:PUBLISH
BEGIN:VEVENT
UID:srh-edu-30991
SUMMARY:Info Day | Campus Cologne
DESCRIPTION:Find out everything about our degree programmes, professors and the SRH Campus Cologne - including important information about financing your studies!
LOCATION:Campus Köln
DTSTART:20260620T100000
DTEND:20260620T140000
DTSTAMP:20260424T053341
END:VEVENT
END:VCALENDAR
